BEGIN:VCALENDAR
VERSION:2.0
PRODID:-//Lost Highway Kennels - ECPv6.15.20//NONSGML v1.0//EN
CALSCALE:GREGORIAN
METHOD:PUBLISH
X-WR-CALNAME:Lost Highway Kennels
X-ORIGINAL-URL:https://losthighwaykennels.com
X-WR-CALDESC:Events for Lost Highway Kennels
REFRESH-INTERVAL;VALUE=DURATION:PT1H
X-Robots-Tag:noindex
X-PUBLISHED-TTL:PT1H
BEGIN:VTIMEZONE
TZID:UTC
BEGIN:STANDARD
TZOFFSETFROM:+0000
TZOFFSETTO:+0000
TZNAME:UTC
DTSTART:20180101T000000
END:STANDARD
END:VTIMEZONE
BEGIN:VEVENT
DTSTART;VALUE=DATE:20190427
DTEND;VALUE=DATE:20190428
DTSTAMP:20260423T070525
CREATED:20190211T224349Z
LAST-MODIFIED:20190314T114433Z
UID:2522-1556323200-1556409599@losthighwaykennels.com
SUMMARY:Snake Aversion
DESCRIPTION:Visit http://pwpointingdogs.org/pennswoods/CLINIC%20REGISTRATION.pdf to register for this event. \nGrayson has partnered with Kernersville Reptile Zoo of Kernersville\, NC to offer snake aversion training on venomous species native to the region.   http://reptilerangers.tv \nJoin us for our next clinic and let Grayson train your dog to avoid all snakes. \nChad Griffin of KRZ will be on site to oversee the health and wellbeing of the snakes as well as offer a clinic on snakebite prevention and management for both pets and humans in the field. \nGrayson will handle all dogs through the training and delivery of well-timed aversive stimulation with a remote training collar. This kind of training is often referred to as a singular learning event.  It is not fun for the dog or handler\, but it DOES save dog’s lives.   \nTraining will occur on caged copperheads and timber rattlesnakes and be tested on an exposed black rat snake or other non-venomous species. 
URL:https://losthighwaykennels.com/event/april27/
LOCATION:Wood Crest Point\, 162 Hiner Road\, Brush Valley\, PA\, United States
CATEGORIES:Events
ATTACH;FMTTYPE=image/jpeg:https://losthighwaykennels.com/wp-content/uploads/2017/12/Snake-Breaking-Clinics_302.jpg
END:VEVENT
BEGIN:VEVENT
DTSTART;TZID=UTC:20190413T080000
DTEND;TZID=UTC:20190413T120000
DTSTAMP:20260423T070525
CREATED:20190314T112902Z
LAST-MODIFIED:20190322T122041Z
UID:2589-1555142400-1555156800@losthighwaykennels.com
SUMMARY:(FULL) Snake Aversion (FULL)
DESCRIPTION:The April 13th class is full.  Grayson has partnered with the Kernersville Reptile Zoo of Kernersville\, NC to offer snake aversion training on venomous species native to the region.   http://reptilerangers.tv \nJoin us for our next clinic and let Grayson train your dog to avoid all snakes. \nChad Griffin of Kernersville Reptile Zoo will be on site to oversee the health and wellbeing of the snakes as well as offer a clinic on snakebite prevention and management for both pets and humans in the field. \nGrayson will handle all dogs through the training and delivery of well timed aversive stimulation with a remote training collar.  This kind of training is often referred to as a singular learning event.  It is not fun for the dog or handler\, but it DOES save dog’s lives. \nTraining will occur on caged copperheads and timber rattlesnakes and be tested on an exposed black rat snake or other non-venomous species. Contact Grayson to Sign Up
URL:https://losthighwaykennels.com/event/snake-aversion/
LOCATION:Hoffman Field Trial Grounds Club House\, (35.0655187\, -79.6320783)
ATTACH;FMTTYPE=image/jpeg:https://losthighwaykennels.com/wp-content/uploads/2019/03/F274F39F-641F-4896-9DA9-7D2D089CFD45.jpeg
ORGANIZER;CN="Lost Highway Kennels":MAILTO:Grayson@losthighwaykennels.com
END:VEVENT
END:VCALENDAR